{
 "currentVersion": 10.6,
 "serviceDescription": "FREDEX",
 "mapName": "Layers",
 "description": "",
 "copyrightText": "rkk",
 "supportsDynamicLayers": true,
 "layers": [
  {
   "id": 0,
   "name": "FREDEX_Zone1_v2_transparent_mosaic_group1.tif",
   "parentLayerId": -1,
   "defaultVisibility": true,
   "subLayerIds": null,
   "minScale": 0,
   "maxScale": 0
  }
 ],
 "tables": [],
 "spatialReference": {
  "wkt": "PROJCS[\"NAD_1983_Virginia_North_ftUS\",GEOGCS[\"GCS_North_American_1983\",DATUM[\"D_North_American_1983\",SPHEROID[\"GRS_1980\",6378137.0,298.257222101]],PRIMEM[\"Greenwich\",0.0],UNIT[\"Degree\",0.0174532925199433]],PROJECTION[\"Lambert_Conformal_Conic\"],PARAMETER[\"false_easting\",11482916.6666667],PARAMETER[\"false_northing\",6561666.666666671],PARAMETER[\"central_meridian\",-78.5],PARAMETER[\"standard_parallel_1\",38.0333333333333],PARAMETER[\"standard_parallel_2\",39.2],PARAMETER[\"latitude_of_origin\",37.6666666666667],UNIT[\"Foot_US\",0.3048006096012192]]"
 },
 "singleFusedMapCache": true,
 "tileInfo": {
  "rows": 256,
  "cols": 256,
  "dpi": 96,
  "format": "MIXED",
  "compressionQuality": 75,
  "origin": {
   "x": -110512500,
   "y": 155132800
  },
  "spatialReference": {
   "wkt": "PROJCS[\"NAD_1983_Virginia_North_ftUS\",GEOGCS[\"GCS_North_American_1983\",DATUM[\"D_North_American_1983\",SPHEROID[\"GRS_1980\",6378137.0,298.257222101]],PRIMEM[\"Greenwich\",0.0],UNIT[\"Degree\",0.0174532925199433]],PROJECTION[\"Lambert_Conformal_Conic\"],PARAMETER[\"false_easting\",11482916.6666667],PARAMETER[\"false_northing\",6561666.666666671],PARAMETER[\"central_meridian\",-78.5],PARAMETER[\"standard_parallel_1\",38.0333333333333],PARAMETER[\"standard_parallel_2\",39.2],PARAMETER[\"latitude_of_origin\",37.6666666666667],UNIT[\"Foot_US\",0.3048006096012192]]"
  },
  "lods": [
   {
    "level": 0,
    "resolution": 13.888888888888888,
    "scale": 16000
   },
   {
    "level": 1,
    "resolution": 6.944444444444444,
    "scale": 8000
   },
   {
    "level": 2,
    "resolution": 3.472222222222222,
    "scale": 4000
   },
   {
    "level": 3,
    "resolution": 1.736111111111111,
    "scale": 2000
   },
   {
    "level": 4,
    "resolution": 0.8680555555555555,
    "scale": 1000
   }
  ]
 },
 "initialExtent": {
  "xmin": 1.177310614212403E7,
  "ymin": 6810532.5399814965,
  "xmax": 1.177499676712403E7,
  "ymax": 6812082.019148163,
  "spatialReference": {
   "wkt": "PROJCS[\"NAD_1983_Virginia_North_ftUS\",GEOGCS[\"GCS_North_American_1983\",DATUM[\"D_North_American_1983\",SPHEROID[\"GRS_1980\",6378137.0,298.257222101]],PRIMEM[\"Greenwich\",0.0],UNIT[\"Degree\",0.0174532925199433]],PROJECTION[\"Lambert_Conformal_Conic\"],PARAMETER[\"false_easting\",11482916.6666667],PARAMETER[\"false_northing\",6561666.666666671],PARAMETER[\"central_meridian\",-78.5],PARAMETER[\"standard_parallel_1\",38.0333333333333],PARAMETER[\"standard_parallel_2\",39.2],PARAMETER[\"latitude_of_origin\",37.6666666666667],UNIT[\"Foot_US\",0.3048006096012192]]"
  }
 },
 "fullExtent": {
  "xmin": 1.177206728899E7,
  "ymin": 6808593.69574,
  "xmax": 1.177602229345E7,
  "ymax": 6813270.7279900005,
  "spatialReference": {
   "wkt": "PROJCS[\"NAD_1983_Virginia_North_ftUS\",GEOGCS[\"GCS_North_American_1983\",DATUM[\"D_North_American_1983\",SPHEROID[\"GRS_1980\",6378137.0,298.257222101]],PRIMEM[\"Greenwich\",0.0],UNIT[\"Degree\",0.0174532925199433]],PROJECTION[\"Lambert_Conformal_Conic\"],PARAMETER[\"false_easting\",11482916.6666667],PARAMETER[\"false_northing\",6561666.666666671],PARAMETER[\"central_meridian\",-78.5],PARAMETER[\"standard_parallel_1\",38.0333333333333],PARAMETER[\"standard_parallel_2\",39.2],PARAMETER[\"latitude_of_origin\",37.6666666666667],UNIT[\"Foot_US\",0.3048006096012192]]"
  }
 },
 "minScale": 16000,
 "maxScale": 1000,
 "units": "esriFeet",
 "supportedImageFormatTypes": "PNG32,PNG24,PNG,JPG,DIB,TIFF,EMF,PS,PDF,GIF,SVG,SVGZ,BMP",
 "documentInfo": {
  "Title": "",
  "Author": "",
  "Comments": "",
  "Subject": "",
  "Category": "",
  "AntialiasingMode": "None",
  "TextAntialiasingMode": "Force",
  "Keywords": "FREDEX"
 },
 "capabilities": "Map,Query,Data",
 "supportedQueryFormats": "JSON, AMF, geoJSON",
 "exportTilesAllowed": false,
 "supportsDatumTransformation": true,
 "maxRecordCount": 1000,
 "maxImageHeight": 4096,
 "maxImageWidth": 4096,
 "supportedExtensions": "KmlServer, WMSServer"
}
