{
 "currentVersion": 10.6,
 "serviceDescription": "FREDEX UAS 1st quarter",
 "mapName": "UAS_Tile",
 "description": "",
 "copyrightText": "rkk",
 "supportsDynamicLayers": true,
 "layers": [
  {
   "id": 0,
   "name": "FREDEX_Zone5_mosaic.tif",
   "parentLayerId": -1,
   "defaultVisibility": true,
   "subLayerIds": null,
   "minScale": 24000,
   "maxScale": 0
  },
  {
   "id": 1,
   "name": "FREDEX_Zone6_mosaic.tif",
   "parentLayerId": -1,
   "defaultVisibility": true,
   "subLayerIds": null,
   "minScale": 24000,
   "maxScale": 0
  },
  {
   "id": 2,
   "name": "FREDEX_Zone7_mosaic.tif",
   "parentLayerId": -1,
   "defaultVisibility": true,
   "subLayerIds": null,
   "minScale": 24000,
   "maxScale": 0
  }
 ],
 "tables": [],
 "spatialReference": {
  "wkid": 102746,
  "latestWkid": 2283
 },
 "singleFusedMapCache": true,
 "tileInfo": {
  "rows": 256,
  "cols": 256,
  "dpi": 96,
  "format": "MIXED",
  "compressionQuality": 75,
  "origin": {
   "x": -110512500,
   "y": 155132800
  },
  "spatialReference": {
   "wkid": 102746,
   "latestWkid": 2283
  },
  "lods": [
   {
    "level": 0,
    "resolution": 27.777777777777775,
    "scale": 32000
   },
   {
    "level": 1,
    "resolution": 13.888888888888888,
    "scale": 16000
   },
   {
    "level": 2,
    "resolution": 6.944444444444444,
    "scale": 8000
   },
   {
    "level": 3,
    "resolution": 3.472222222222222,
    "scale": 4000
   },
   {
    "level": 4,
    "resolution": 1.736111111111111,
    "scale": 2000
   },
   {
    "level": 5,
    "resolution": 0.8680555555555555,
    "scale": 1000
   },
   {
    "level": 6,
    "resolution": 0.43402777777777773,
    "scale": 500
   },
   {
    "level": 7,
    "resolution": 0.21701388888888887,
    "scale": 250
   },
   {
    "level": 8,
    "resolution": 0.10850694444444443,
    "scale": 125
   }
  ]
 },
 "initialExtent": {
  "xmin": 1.1778324562633334E7,
  "ymin": 6830946.480065,
  "xmax": 1.1799157895966666E7,
  "ymax": 6843342.313398334,
  "spatialReference": {
   "wkid": 102746,
   "latestWkid": 2283
  }
 },
 "fullExtent": {
  "xmin": 1.178279870246E7,
  "ymin": 6823542.5393900005,
  "xmax": 1.1794683756140001E7,
  "ymax": 6844412.920740001,
  "spatialReference": {
   "wkid": 102746,
   "latestWkid": 2283
  }
 },
 "minScale": 32000,
 "maxScale": 125,
 "units": "esriFeet",
 "supportedImageFormatTypes": "PNG32,PNG24,PNG,JPG,DIB,TIFF,EMF,PS,PDF,GIF,SVG,SVGZ,BMP",
 "documentInfo": {
  "Title": "",
  "Author": "",
  "Comments": "FREDEX UAS 1st quarter",
  "Subject": "FREDEX UAS 1st quarter",
  "Category": "",
  "AntialiasingMode": "None",
  "TextAntialiasingMode": "Force",
  "Keywords": "UAS"
 },
 "capabilities": "Map,Query,Data",
 "supportedQueryFormats": "JSON, AMF, geoJSON",
 "exportTilesAllowed": false,
 "supportsDatumTransformation": true,
 "maxRecordCount": 1000,
 "maxImageHeight": 4096,
 "maxImageWidth": 4096,
 "supportedExtensions": "KmlServer, WMSServer"
}
