{
 "currentVersion": 10.6,
 "serviceDescription": "FREDEX UAS 1st quarter",
 "mapName": "UAS_Tile",
 "description": "",
 "copyrightText": "rkk",
 "supportsDynamicLayers": true,
 "layers": [
  {
   "id": 0,
   "name": "FREDEX_Zone8_mosaic.tif",
   "parentLayerId": -1,
   "defaultVisibility": true,
   "subLayerIds": null,
   "minScale": 24000,
   "maxScale": 0
  },
  {
   "id": 1,
   "name": "FREDEX_Zone9_mosaic.tif",
   "parentLayerId": -1,
   "defaultVisibility": true,
   "subLayerIds": null,
   "minScale": 24000,
   "maxScale": 0
  },
  {
   "id": 2,
   "name": "FREDEX_Zone10_mosaic.tif",
   "parentLayerId": -1,
   "defaultVisibility": true,
   "subLayerIds": null,
   "minScale": 24000,
   "maxScale": 0
  },
  {
   "id": 3,
   "name": "FREDEX_Zone11_mosaic.tif",
   "parentLayerId": -1,
   "defaultVisibility": true,
   "subLayerIds": null,
   "minScale": 24000,
   "maxScale": 0
  }
 ],
 "tables": [],
 "spatialReference": {
  "wkid": 102746,
  "latestWkid": 2283
 },
 "singleFusedMapCache": true,
 "tileInfo": {
  "rows": 256,
  "cols": 256,
  "dpi": 96,
  "format": "MIXED",
  "compressionQuality": 75,
  "origin": {
   "x": -110512500,
   "y": 155132800
  },
  "spatialReference": {
   "wkid": 102746,
   "latestWkid": 2283
  },
  "lods": [
   {
    "level": 0,
    "resolution": 27.777777777777775,
    "scale": 32000
   },
   {
    "level": 1,
    "resolution": 13.888888888888888,
    "scale": 16000
   },
   {
    "level": 2,
    "resolution": 6.944444444444444,
    "scale": 8000
   },
   {
    "level": 3,
    "resolution": 3.472222222222222,
    "scale": 4000
   },
   {
    "level": 4,
    "resolution": 1.736111111111111,
    "scale": 2000
   }
  ]
 },
 "initialExtent": {
  "xmin": 1.1788073168244962E7,
  "ymin": 6856432.032300009,
  "xmax": 1.1811760668244962E7,
  "ymax": 6868827.865633343,
  "spatialReference": {
   "wkid": 102746,
   "latestWkid": 2283
  }
 },
 "fullExtent": {
  "xmin": 1.179386631059E7,
  "ymin": 6844071.44873,
  "xmax": 1.18059675259E7,
  "ymax": 6874855.115870001,
  "spatialReference": {
   "wkid": 102746,
   "latestWkid": 2283
  }
 },
 "minScale": 16000,
 "maxScale": 2000,
 "units": "esriFeet",
 "supportedImageFormatTypes": "PNG32,PNG24,PNG,JPG,DIB,TIFF,EMF,PS,PDF,GIF,SVG,SVGZ,BMP",
 "documentInfo": {
  "Title": "",
  "Author": "",
  "Comments": "FREDEX UAS 1st quarter",
  "Subject": "FREDEX UAS 1st quarter",
  "Category": "",
  "AntialiasingMode": "None",
  "TextAntialiasingMode": "Force",
  "Keywords": "UAS"
 },
 "capabilities": "Map,Query,Data",
 "supportedQueryFormats": "JSON, AMF, geoJSON",
 "exportTilesAllowed": false,
 "supportsDatumTransformation": true,
 "maxRecordCount": 1000,
 "maxImageHeight": 4096,
 "maxImageWidth": 4096,
 "supportedExtensions": "KmlServer, WMSServer"
}
